BEGIN:VCALENDAR
VERSION:2.0
PRODID:-//CLSG / GCEL - ECPv6.15.17.1//NONSGML v1.0//EN
CALSCALE:GREGORIAN
METHOD:PUBLISH
X-WR-CALNAME:CLSG / GCEL
X-ORIGINAL-URL:https://clsg.ca
X-WR-CALDESC:Events for CLSG / GCEL
REFRESH-INTERVAL;VALUE=DURATION:PT1H
X-Robots-Tag:noindex
X-PUBLISHED-TTL:PT1H
BEGIN:VTIMEZONE
TZID:America/New_York
BEGIN:DAYLIGHT
TZOFFSETFROM:-0500
TZOFFSETTO:-0400
TZNAME:EDT
DTSTART:20240310T070000
END:DAYLIGHT
BEGIN:STANDARD
TZOFFSETFROM:-0400
TZOFFSETTO:-0500
TZNAME:EST
DTSTART:20241103T060000
END:STANDARD
BEGIN:DAYLIGHT
TZOFFSETFROM:-0500
TZOFFSETTO:-0400
TZNAME:EDT
DTSTART:20250309T070000
END:DAYLIGHT
BEGIN:STANDARD
TZOFFSETFROM:-0400
TZOFFSETTO:-0500
TZNAME:EST
DTSTART:20251102T060000
END:STANDARD
BEGIN:DAYLIGHT
TZOFFSETFROM:-0500
TZOFFSETTO:-0400
TZNAME:EDT
DTSTART:20260308T070000
END:DAYLIGHT
BEGIN:STANDARD
TZOFFSETFROM:-0400
TZOFFSETTO:-0500
TZNAME:EST
DTSTART:20261101T060000
END:STANDARD
BEGIN:DAYLIGHT
TZOFFSETFROM:-0500
TZOFFSETTO:-0400
TZNAME:EDT
DTSTART:20270314T070000
END:DAYLIGHT
BEGIN:STANDARD
TZOFFSETFROM:-0400
TZOFFSETTO:-0500
TZNAME:EST
DTSTART:20271107T060000
END:STANDARD
END:VTIMEZONE
BEGIN:VEVENT
DTSTART;TZID=America/New_York:20260420T190000
DTEND;TZID=America/New_York:20260420T203000
DTSTAMP:20260420T210455
CREATED:20260320T021510Z
LAST-MODIFIED:20260418T173716Z
UID:10000025-1776711600-1776717000@clsg.ca
SUMMARY:The Evolving Treatment Landscape of Adult Ph+ve ALL: The CLSG-ALL-2 Study
DESCRIPTION:You must be logged in to view this content.
URL:https://clsg.ca/event/the-evolving-treatment-landscape-of-adult-phve-all-the-clsg-all-2-study/
CATEGORIES:Webinars
LOCATION:https://clsg.ca/event/the-evolving-treatment-landscape-of-adult-phve-all-the-clsg-all-2-study/
END:VEVENT
BEGIN:VEVENT
DTSTART;TZID=America/New_York:20260223T190000
DTEND;TZID=America/New_York:20260223T203000
DTSTAMP:20260420T210455
CREATED:20260203T220028Z
LAST-MODIFIED:20260203T220823Z
UID:10000024-1771873200-1771878600@clsg.ca
SUMMARY:Management of FLT3-Mutated AML: What’s New in 2026?
DESCRIPTION:You must be logged in to view this content.
URL:https://clsg.ca/event/management-of-flt3-mutated-aml-whats-new-in-2026/
CATEGORIES:Webinars
LOCATION:https://clsg.ca/event/management-of-flt3-mutated-aml-whats-new-in-2026/
END:VEVENT
BEGIN:VEVENT
DTSTART;TZID=America/New_York:20250930T190000
DTEND;TZID=America/New_York:20250930T203000
DTSTAMP:20260420T210455
CREATED:20250726T210321Z
LAST-MODIFIED:20250929T223730Z
UID:10000023-1759258800-1759264200@clsg.ca
SUMMARY:Controversies in the Management of AML in the Elderly 2025: An FAQ-Based Discussion
DESCRIPTION:You must be logged in to view this content.
URL:https://clsg.ca/event/controversies-in-the-management-of-aml-in-the-elderly-2025/
CATEGORIES:Webinars
END:VEVENT
END:VCALENDAR